BEGIN:VCALENDAR
VERSION:2.0
PRODID:-//Whittier Museum - ECPv6.15.20//NONSGML v1.0//EN
CALSCALE:GREGORIAN
METHOD:PUBLISH
X-ORIGINAL-URL:https://whittiermuseum.org
X-WR-CALDESC:Events for Whittier Museum
REFRESH-INTERVAL;VALUE=DURATION:PT1H
X-Robots-Tag:noindex
X-PUBLISHED-TTL:PT1H
BEGIN:VTIMEZONE
TZID:America/Los_Angeles
BEGIN:DAYLIGHT
TZOFFSETFROM:-0800
TZOFFSETTO:-0700
TZNAME:PDT
DTSTART:20250309T100000
END:DAYLIGHT
BEGIN:STANDARD
TZOFFSETFROM:-0700
TZOFFSETTO:-0800
TZNAME:PST
DTSTART:20251102T090000
END:STANDARD
BEGIN:DAYLIGHT
TZOFFSETFROM:-0800
TZOFFSETTO:-0700
TZNAME:PDT
DTSTART:20260308T100000
END:DAYLIGHT
BEGIN:STANDARD
TZOFFSETFROM:-0700
TZOFFSETTO:-0800
TZNAME:PST
DTSTART:20261101T090000
END:STANDARD
BEGIN:DAYLIGHT
TZOFFSETFROM:-0800
TZOFFSETTO:-0700
TZNAME:PDT
DTSTART:20270314T100000
END:DAYLIGHT
BEGIN:STANDARD
TZOFFSETFROM:-0700
TZOFFSETTO:-0800
TZNAME:PST
DTSTART:20271107T090000
END:STANDARD
END:VTIMEZONE
BEGIN:VEVENT
DTSTART;TZID=America/Los_Angeles:20260424T180000
DTEND;TZID=America/Los_Angeles:20260424T203000
DTSTAMP:20260422T155743
CREATED:20260407T185829Z
LAST-MODIFIED:20260414T182412Z
UID:19944-1777053600-1777062600@whittiermuseum.org
SUMMARY:Painting Workshop
DESCRIPTION:The next painting workshop with Art Duran will be held on Friday\, April 24 at 6:30 pm at the Whittier Museum.  All materials to paint your own masterpiece will be provided!  Light refreshments will be served.  No alcohol is served at this event – all ages welcome. \nClick on the website link below to make your reservation. This is a ticket-less event.  After payment\, your name will be placed on our reservation list and your email from PayPal serves as your receipt. \nQuestions?  Call the Museum office at 562 945-3871.
URL:https://whittiermuseum.org/event/painting-workshop/
LOCATION:Whittier Museum\, 6755 Newlin Ave\, Whittier\, CA\, 90601\, United States
ORGANIZER;CN="Whittier Historical Society":MAILTO:info@whittiermuseum.org
END:VEVENT
BEGIN:VEVENT
DTSTART;TZID=America/Los_Angeles:20260509T100000
DTEND;TZID=America/Los_Angeles:20260509T140000
DTSTAMP:20260422T155743
CREATED:20260407T204959Z
LAST-MODIFIED:20260407T205247Z
UID:19959-1778320800-1778335200@whittiermuseum.org
SUMMARY:Founders Day
DESCRIPTION:Founders Day is a Whittier tradition since the days of Jonathan Bailey!  Join us on Saturday May 9 from 10am until 2pm at Central Park (6532 Friends Ave.) in Uptown Whittier.  This is a great event for families as there will be something for everyone!  Food\, entertainment\, games\, booths from Whittier non-profits and local businesses\, and more!  Free to all. \nIf you would like to have a booth at Founders Day\, please contact Ana Mejia at the Whittier Museum\, 562 945-3871.
URL:https://whittiermuseum.org/event/founders-day-2/
LOCATION:Central Park\, 6532 Friends Ave.\, Whittier\, CA\, 90601\, United States
ATTACH;FMTTYPE=image/jpeg:https://whittiermuseum.org/wp-content/uploads/2026/03/IMG_6158-rotated-e1775594814429.jpg
END:VEVENT
END:VCALENDAR