BEGIN:VCALENDAR
VERSION:2.0
PRODID:-//Whittier Museum - ECPv6.15.20//NONSGML v1.0//EN
CALSCALE:GREGORIAN
METHOD:PUBLISH
X-ORIGINAL-URL:https://whittiermuseum.org
X-WR-CALDESC:Events for Whittier Museum
REFRESH-INTERVAL;VALUE=DURATION:PT1H
X-Robots-Tag:noindex
X-PUBLISHED-TTL:PT1H
BEGIN:VTIMEZONE
TZID:America/Los_Angeles
BEGIN:DAYLIGHT
TZOFFSETFROM:-0800
TZOFFSETTO:-0700
TZNAME:PDT
DTSTART:20230312T100000
END:DAYLIGHT
BEGIN:STANDARD
TZOFFSETFROM:-0700
TZOFFSETTO:-0800
TZNAME:PST
DTSTART:20231105T090000
END:STANDARD
BEGIN:DAYLIGHT
TZOFFSETFROM:-0800
TZOFFSETTO:-0700
TZNAME:PDT
DTSTART:20240310T100000
END:DAYLIGHT
BEGIN:STANDARD
TZOFFSETFROM:-0700
TZOFFSETTO:-0800
TZNAME:PST
DTSTART:20241103T090000
END:STANDARD
BEGIN:DAYLIGHT
TZOFFSETFROM:-0800
TZOFFSETTO:-0700
TZNAME:PDT
DTSTART:20250309T100000
END:DAYLIGHT
BEGIN:STANDARD
TZOFFSETFROM:-0700
TZOFFSETTO:-0800
TZNAME:PST
DTSTART:20251102T090000
END:STANDARD
BEGIN:DAYLIGHT
TZOFFSETFROM:-0800
TZOFFSETTO:-0700
TZNAME:PDT
DTSTART:20260308T100000
END:DAYLIGHT
BEGIN:STANDARD
TZOFFSETFROM:-0700
TZOFFSETTO:-0800
TZNAME:PST
DTSTART:20261101T090000
END:STANDARD
END:VTIMEZONE
BEGIN:VEVENT
DTSTART;TZID=America/Los_Angeles:20250318T180000
DTEND;TZID=America/Los_Angeles:20250318T200000
DTSTAMP:20260422T190152
CREATED:20241218T200348Z
LAST-MODIFIED:20241218T200348Z
UID:16169-1742320800-1742328000@whittiermuseum.org
SUMMARY:Whittier AAA Travel - Journese Travel
DESCRIPTION:The Whittier Museum will be hosting Whittier AAA Travel for an exclusive vacation presentation. Save the date for Tuesday\, March 18th\, starting at 6 PM. Hear about the exciting travel opportunities with Journese Travel.
URL:https://whittiermuseum.org/event/whittier-aaa-travel-journese-travel/
LOCATION:Whittier Museum\, 6755 Newlin Ave\, Whittier\, CA\, 90601\, United States
END:VEVENT
BEGIN:VEVENT
DTSTART;TZID=America/Los_Angeles:20250219T180000
DTEND;TZID=America/Los_Angeles:20250219T200000
DTSTAMP:20260422T190152
CREATED:20241218T195535Z
LAST-MODIFIED:20250116T223202Z
UID:16157-1739988000-1739995200@whittiermuseum.org
SUMMARY:Whittier AAA Travel - Uniworld River Cruises
DESCRIPTION:The Whittier Museum will be hosting Whittier AAA Travel for an exclusive vacation presentation. Save the date for Wednesday February 19th\, starting at 6 PM. Hear about the exciting travel opportunities for Uniworld Cruises. \n 
URL:https://whittiermuseum.org/event/whittier-aaa-travel-uniworld-river-cruises/
LOCATION:Whittier Museum\, 6755 Newlin Ave\, Whittier\, CA\, 90601\, United States
ATTACH;FMTTYPE=image/jpeg:https://whittiermuseum.org/wp-content/uploads/2024/12/uniworld-main.jpg
END:VEVENT
BEGIN:VEVENT
DTSTART;TZID=America/Los_Angeles:20250215T180000
DTEND;TZID=America/Los_Angeles:20250215T220000
DTSTAMP:20260422T190152
CREATED:20250116T224050Z
LAST-MODIFIED:20250116T224512Z
UID:16206-1739642400-1739656800@whittiermuseum.org
SUMMARY:Museum Ghost Tour 2-15-2025
DESCRIPTION:Your tour guide\, Jacob Caputo\, will lead you on a special Valentines edition of his flashlight tour of the Whittier Museum. Jacob\, creator of the popular Haunted Whittier: Ghosts\, Myths\, and Legends tour\, will regale you with stories of local ghosts – and perhaps you’ll wake some of the ghosts at the Museum! Each tour lasts approximately one hour. Tour times are 6:00\, 7:30\, and 9:00 pm. \nTo purchase tickets\, click on the Ticket Tailor link below.  $30 per person.
URL:https://whittiermuseum.org/event/museum-ghost-tour-2-15-2025/
LOCATION:Whittier Museum\, 6755 Newlin Ave\, Whittier\, CA\, 90601\, United States
ATTACH;FMTTYPE=image/jpeg:https://whittiermuseum.org/wp-content/uploads/2024/11/IMG_2052-1.jpeg
ORGANIZER;CN="Whittier Historical Society":MAILTO:info@whittiermuseum.org
END:VEVENT
BEGIN:VEVENT
DTSTART;TZID=America/Los_Angeles:20241207T110000
DTEND;TZID=America/Los_Angeles:20241207T140000
DTSTAMP:20260422T190152
CREATED:20240821T221130Z
LAST-MODIFIED:20241207T162927Z
UID:15154-1733569200-1733580000@whittiermuseum.org
SUMMARY:Victorian Christmas Home Tour 12-7-24
DESCRIPTION:This event is on Saturday\, Dec. 7\, 2024 from 11 am until 2 pm. \nYou will be visiting two iconic Whittier homes built in the early years of the city.  Both homes will be fully decorated for the holidays. \nWhen selecting your ticket\, you have a choice of which home to visit first.  In order to keep waiting times minimal\, please visit the homes in the order indicated on your ticket.   As a courtesy\, please start your first tour by 12:30 pm at the latest.  After you visit the first home\, please proceed directly to the second home.  The two homes are several miles apart\, so transportation via car is recommended. \nThe Light’s home is located at 5854 Painter Ave.\, Whittier 90601.\nThe Williamson’s home is located at 8119 California Ave.\, Whittier 90602. \nYou are also welcome to visit the Whittier Museum after your home tours for free cookies and hot cider.  T-shirts\, books\, and hand made gifts will be on sale.  All proceeds from the tour will benefit the Whittier Historical Society. \nRestrictions:\nNo children under age 12\, no infants in arms\, no strollers\nNo high heeled shoes – flats only\nThe homes are not handicap accessible \nNotes on parking:\nThe Light’s home is in a neighborhood where street parking is controlled by permit. The Whittier Police Department has been notified of our event\, and it is unlikely that you will be ticketed unless you are parked illegally (red zone\, in front of a fire hydrant\, or blocking a resident’s driveway). Temporary permits will be available at the Light’s house if you would like to use one. \nNotes on tickets:\nWhen tickets are bought on-line\, you will receive an email with the tickets\, including a printable pdf file.  All the information you need will be in the email – date and time\, which house first\, and the addresses of the homes.  We will accept tickets shown on your phone or printed on paper.  You also have the option of adding the tickets to your Apple wallet.  If you do so – you will lose the address information – so please keep the email.  The address information is also available on our website:  whittiermuseum.org
URL:https://whittiermuseum.org/event/victorian-christmas-home-tour-12-7-24/
LOCATION:Whittier Museum\, 6755 Newlin Ave\, Whittier\, CA\, 90601\, United States
ATTACH;FMTTYPE=image/jpeg:https://whittiermuseum.org/wp-content/uploads/2024/10/ticket-graphic4.jpg
ORGANIZER;CN="Whittier Historical Society":MAILTO:info@whittiermuseum.org
END:VEVENT
BEGIN:VEVENT
DTSTART;TZID=America/Los_Angeles:20241206T170000
DTEND;TZID=America/Los_Angeles:20241206T200000
DTSTAMP:20260422T190152
CREATED:20240821T214542Z
LAST-MODIFIED:20241207T013515Z
UID:15147-1733504400-1733515200@whittiermuseum.org
SUMMARY:Victorian Christmas Home Tour 12-6-24
DESCRIPTION:You will be visiting two iconic Whittier homes built in the early years of the city.  Both homes will be fully decorated for the holidays. \nWhen selecting your ticket\, you have a choice of which home to visit first.  In order to keep waiting times minimal\, please visit the homes in the order indicated on your ticket.   As a courtesy\, please start your first tour by 7 pm at the latest.  After you visit the first home\, please proceed directly to the second home.  The two homes are several miles apart\, so transportation via car is recommended. \nThe Light’s home is located at 5854 Painter Ave.\, Whittier 90601.\nThe Williamson’s home is located at 8119 California Ave.\, Whittier 90602. \nYou are also welcome to visit the Whittier Museum after your home tours for free cookies and hot cider.  T-shirts\, books\, and hand made gifts will be on sale.  All proceeds from the tour will benefit the Whittier Historical Society. \nRestrictions:\nNo children under age 12\, no infants in arms\, no strollers\nNo high heeled shoes – flats only\nThe homes are not handicap accessible \nNotes on parking:\nThe Light’s home is in a neighborhood where street parking is controlled by permit. The Whittier Police Department has been notified of our event\, and it is unlikely that you will be ticketed unless you are parked illegally (red zone\, in front of a fire hydrant\, or blocking a resident’s driveway). Temporary permits will be available at the Light’s house if you would like to use one. Carpooling is encouraged! \nNotes on tickets:\nWhen tickets are bought on-line\, you will receive an email with the tickets\, including a printable pdf file.  All the information you need will be in the email – date and time\, which house first\, and the addresses of the homes.  We will accept tickets shown on your phone or printed on paper.  You also have the option of adding the tickets to your Apple wallet.  If you do so – you will lose the address information – so please keep the email.  The address information is also available on our website:  whittiermuseum.org
URL:https://whittiermuseum.org/event/victorian-christmas-home-tour-12-6-24/
LOCATION:Whittier Museum\, 6755 Newlin Ave\, Whittier\, CA\, 90601\, United States
ATTACH;FMTTYPE=image/jpeg:https://whittiermuseum.org/wp-content/uploads/2024/08/ticket-graphic-red.jpg
ORGANIZER;CN="Whittier Historical Society":MAILTO:info@whittiermuseum.org
END:VEVENT
BEGIN:VEVENT
DTSTART;VALUE=DATE:20241029
DTEND;VALUE=DATE:20241030
DTSTAMP:20260422T190152
CREATED:20240809T000311Z
LAST-MODIFIED:20240809T000311Z
UID:15050-1730160000-1730246399@whittiermuseum.org
SUMMARY:Museum Ghost Tour 10-29-24
DESCRIPTION:Your tour guide\, Jacob Caputo\, will lead you on a flashlight tour of the Whittier Museum. Jacob\, creator of the popular Haunted Whittier: Ghosts\, Myths\, and Legends tour\, will regale you with stories of local ghosts – and perhaps you’ll wake some of the ghosts at the Museum! Each tour lasts approximately one hour. Tour times are 6:00\, 7:30\, and 9:00 pm
URL:https://whittiermuseum.org/event/museum-ghost-tour-10-29-24/
LOCATION:Whittier Museum\, 6755 Newlin Ave\, Whittier\, CA\, 90601\, United States
ATTACH;FMTTYPE=image/jpeg:https://whittiermuseum.org/wp-content/uploads/2024/01/350667495_1672538003168930_487128340557834450_n.jpg
END:VEVENT
BEGIN:VEVENT
DTSTART;TZID=America/Los_Angeles:20241026T160000
DTEND;TZID=America/Los_Angeles:20241027T210000
DTSTAMP:20260422T190152
CREATED:20240814T165644Z
LAST-MODIFIED:20241027T233458Z
UID:15093-1729958400-1730062800@whittiermuseum.org
SUMMARY:Whittier Museum Haunt
DESCRIPTION:Advanced ticket sales are closed.  Tickets will be available at the door (cash\, credit\, apple pay\, Venmo\, google pay\, Samsung pay all accepted) \nProduced by the Whittier Museum\, the theme this year is “Face Your Fears”. \nParents – please be advised that scare actors will be present and visitors will be subject to “jump scares”. \nTickets will be honored for either 10-26 (Saturday 4 to 9 pm) OR 10-27 (Sunday 5 to 9 pm).  No ticket refunds. \nAfter purchase\, you will receive an email with your tickets.  Print tickets or show on your phone for entry.
URL:https://whittiermuseum.org/event/whittier-museum-haunt/
LOCATION:Whittier Museum\, 6755 Newlin Ave\, Whittier\, CA\, 90601\, United States
ATTACH;FMTTYPE=image/jpeg:https://whittiermuseum.org/wp-content/uploads/2024/08/2024-Halloween-Sticker-2-resize-e1727829959924.jpg
ORGANIZER;CN="Whittier Historical Society":MAILTO:info@whittiermuseum.org
END:VEVENT
BEGIN:VEVENT
DTSTART;VALUE=DATE:20241012
DTEND;VALUE=DATE:20241013
DTSTAMP:20260422T190152
CREATED:20240808T233518Z
LAST-MODIFIED:20240808T234005Z
UID:15047-1728691200-1728777599@whittiermuseum.org
SUMMARY:Museum Ghost Tour 10-12-24
DESCRIPTION:Your tour guide\, Jacob Caputo\, will lead you on a flashlight tour of the Whittier Museum.  Jacob\, creator of the popular Haunted Whittier:  Ghosts\, Myths\, and Legends tour\, will regale you with stories of local ghosts –  and perhaps you’ll wake some of the ghosts at the Museum!  Each tour lasts approximately one hour.  Tour times are 6:00\, 7:30\, and 9:00 pm
URL:https://whittiermuseum.org/event/museum-ghost-tour-10-12-24/
LOCATION:Whittier Museum\, 6755 Newlin Ave\, Whittier\, CA\, 90601\, United States
ATTACH;FMTTYPE=image/jpeg:https://whittiermuseum.org/wp-content/uploads/2024/01/350667495_1672538003168930_487128340557834450_n.jpg
END:VEVENT
BEGIN:VEVENT
DTSTART;TZID=America/Los_Angeles:20240907T170000
DTEND;TZID=America/Los_Angeles:20240907T190000
DTSTAMP:20260422T190152
CREATED:20240820T182621Z
LAST-MODIFIED:20240822T173308Z
UID:15133-1725728400-1725735600@whittiermuseum.org
SUMMARY:Documentary Screening:  Lost in the Shuffle
DESCRIPTION:World champion and fourth-generation magician\, Shawn Farquhar\, has been surrounded by cards for as long as he can remember\, but after a trip to France\, he wondered why the court cards look the way they do. Of particular interest was the King of Hearts\, also known as the “Suicide King” because he appears to be stabbing himself in the head. \nShawn believes there is a much more sinister story\, that an actual medieval French king was assassinated at the hand of his own wife. Now Shawn is out to see if his theory’s true – will the greatest illusion of all prove to be that an ancient cold-case murder has been hiding under our noses all this time? \nFeaturing two-time world champion magician Shawn Farquhar\, this documentary explores the unique history and relationship between the art of magic and playing cards. Seen through the eyes of some of the world’s best sleight-of-hand artists\, Lost in the Shuffle is a multi-faceted look at this remarkable 400-year relationship that’s seen these simple playthings provide an endless source of miraculous inspiration for magicians throughout time. \nSee the trailer here:  https://www.youtube.com/watch?v=HrOOw8B5yMI \nVisit the Lost in the Shuffle website:  https://www.lostintheshuffle.film/
URL:https://whittiermuseum.org/event/documentary-screening-lost-in-the-shuffle/
LOCATION:Whittier Museum\, 6755 Newlin Ave\, Whittier\, CA\, 90601\, United States
ORGANIZER;CN="Whittier Historical Society":MAILTO:info@whittiermuseum.org
END:VEVENT
BEGIN:VEVENT
DTSTART;TZID=America/Los_Angeles:20240907T130000
DTEND;TZID=America/Los_Angeles:20240907T160000
DTSTAMP:20260422T190152
CREATED:20240808T215636Z
LAST-MODIFIED:20240809T003908Z
UID:15041-1725714000-1725724800@whittiermuseum.org
SUMMARY:Fourth Magic Class
DESCRIPTION:These classes are designed for children 8 to 15 years old.  Each class is “stand-alone”\, so you do not have to attend any of the other classes.  Instructors are professional magicians from the Society of American Magicians Hall of Fame.  Supplies are included.  Cost is $20 per class. \nAll students and their families are also invited to graduation day on Sat. Sept 14 where the students will show off what they’ve learned. \n  \n  \n 
URL:https://whittiermuseum.org/event/fourth-magic-class/
LOCATION:Whittier Museum\, 6755 Newlin Ave\, Whittier\, CA\, 90601\, United States
ATTACH;FMTTYPE=image/webp:https://whittiermuseum.org/wp-content/uploads/2024/03/beginner-magic_1024x1024_crop_center.webp
END:VEVENT
BEGIN:VEVENT
DTSTART;TZID=America/Los_Angeles:20240824T140000
DTEND;TZID=America/Los_Angeles:20240824T153000
DTSTAMP:20260422T190152
CREATED:20240808T210936Z
LAST-MODIFIED:20240808T224256Z
UID:15037-1724508000-1724513400@whittiermuseum.org
SUMMARY:Author Talk with Patrick O'Donnell
DESCRIPTION:Meet former Whittier photographer Patrick O’Donnell on Saturday Aug. 24 at the Whittier Museum.  Patrick is a Whittier native who worked for the East Whittier Review and Whittier Daily News for many years.  He has now published his first book chronicling his photography career in Whittier and beyond.  Come listen to Patrick’s stories of working in Whittier\, meeting Richard Nixon\, and photographing many other famous people.  Signed books will be available for purchase.
URL:https://whittiermuseum.org/event/author-talk-with-patrick-odonnell/
LOCATION:Whittier Museum\, 6755 Newlin Ave\, Whittier\, CA\, 90601\, United States
END:VEVENT
BEGIN:VEVENT
DTSTART;TZID=America/Los_Angeles:20240810T140000
DTEND;TZID=America/Los_Angeles:20240810T153000
DTSTAMP:20260422T190152
CREATED:20240808T201442Z
LAST-MODIFIED:20240808T201442Z
UID:15031-1723298400-1723303800@whittiermuseum.org
SUMMARY:Magic Show
DESCRIPTION:Join us for a FREE magic show presented by the Society of American Magicians Hall of Fame.  This is a family friendly show – be sure to come early to view the accompanying magic exhibit on the second floor of the Whittier Museum.
URL:https://whittiermuseum.org/event/magic-show/
LOCATION:Whittier Museum\, 6755 Newlin Ave\, Whittier\, CA\, 90601\, United States
ATTACH;FMTTYPE=image/png:https://whittiermuseum.org/wp-content/uploads/2024/01/2020-01-06_1544-1000x1000-1.png
END:VEVENT
END:VCALENDAR